BEGIN:VCALENDAR
VERSION:2.0
PRODID:-//time.you/holidays//NONSGML v1.0//EN
BEGIN:VEVENT
UID:4d641aa1-c8b1-4183-872b-f047fdaa9828
DTSTAMP:20260422T064253Z
DTSTART;VALUE=DATE:20261123
SUMMARY:Labor Thanksgiving Day (Japan)
END:VEVENT
END:VCALENDAR