BEGIN:VCALENDAR
VERSION:2.0
PRODID:-//time.you/holidays//NONSGML v1.0//EN
BEGIN:VEVENT
UID:fec90a4f-0f5c-4f6b-addb-36a126908f2e
DTSTAMP:20260419T234825Z
DTSTART;VALUE=DATE:20260101
SUMMARY:New Year's Day (Japan)
END:VEVENT
END:VCALENDAR