BEGIN:VCALENDAR
VERSION:2.0
PRODID:-//time.you/holidays//NONSGML v1.0//EN
BEGIN:VEVENT
UID:0fd9483b-0d4c-4e03-9df2-9f67b9d929a9
DTSTAMP:20260420T045147Z
DTSTART;VALUE=DATE:20260403
SUMMARY:Good Friday (Jersey)
END:VEVENT
END:VCALENDAR