BEGIN:VCALENDAR
VERSION:2.0
PRODID:-//time.you/holidays//NONSGML v1.0//EN
BEGIN:VEVENT
UID:ed053c21-e98d-40f0-aae5-09c65ae966e7
DTSTAMP:20260423T200753Z
DTSTART;VALUE=DATE:20260509
SUMMARY:Liberation Day (Jersey)
END:VEVENT
END:VCALENDAR