BEGIN:VCALENDAR
VERSION:2.0
PRODID:-//time.you/holidays//NONSGML v1.0//EN
BEGIN:VEVENT
UID:d003f710-8011-4afb-86ec-c7ce49be536b
DTSTAMP:20260421T130310Z
DTSTART;VALUE=DATE:20240506
SUMMARY:May Bank Holiday (Jersey)
END:VEVENT
END:VCALENDAR