BEGIN:VCALENDAR
VERSION:2.0
PRODID:-//time.you/holidays//NONSGML v1.0//EN
BEGIN:VEVENT
UID:f1007629-753a-4c66-b06b-712373a5ada0
DTSTAMP:20260421T140308Z
DTSTART;VALUE=DATE:20280103
SUMMARY:New Year's Day (substitute day) (Jersey)
END:VEVENT
END:VCALENDAR