BEGIN:VCALENDAR
VERSION:2.0
PRODID:-//time.you/holidays//NONSGML v1.0//EN
BEGIN:VEVENT
UID:e6edd5cd-f9f4-4b92-88c4-c75da7066dcb
DTSTAMP:20260420T125624Z
DTSTART;VALUE=DATE:20260101
SUMMARY:New Year's Day (Jersey)
END:VEVENT
END:VCALENDAR