BEGIN:VCALENDAR
VERSION:2.0
PRODID:-//time.you/holidays//NONSGML v1.0//EN
BEGIN:VEVENT
UID:6d15c871-7389-4491-a8b3-43891507ee8f
DTSTAMP:20260424T170844Z
DTSTART;VALUE=DATE:20220603
SUMMARY:Queen's Platinum Jubilee (Jersey)
END:VEVENT
END:VCALENDAR