BEGIN:VCALENDAR
VERSION:2.0
PRODID:-//time.you/holidays//NONSGML v1.0//EN
BEGIN:VEVENT
UID:5f15b43d-eec3-4b2e-afc3-eec0395d74bc
DTSTAMP:20260421T221838Z
DTSTART;VALUE=DATE:20260831
SUMMARY:Summer Bank Holiday (Jersey)
END:VEVENT
END:VCALENDAR