BEGIN:VCALENDAR
VERSION:2.0
PRODID:-//time.you/holidays//NONSGML v1.0//EN
BEGIN:VEVENT
UID:699030ff-a759-4329-8890-39777a3d81f7
DTSTAMP:20260422T003746Z
DTSTART;VALUE=DATE:20240715
SUMMARY:The visit of His Majesty King Charles III and Queen Camilla (Jersey)
END:VEVENT
END:VCALENDAR