BEGIN:VCALENDAR
VERSION:2.0
PRODID:-//time.you/holidays//NONSGML v1.0//EN
BEGIN:VEVENT
UID:3d440211-e1e4-4abd-8917-c17a19408783
DTSTAMP:20260421T143211Z
DTSTART;VALUE=DATE:20260526
SUMMARY:Arafat Day (estimated) (Jordan)
END:VEVENT
END:VCALENDAR