BEGIN:VCALENDAR
VERSION:2.0
PRODID:-//time.you/holidays//NONSGML v1.0//EN
BEGIN:VEVENT
UID:8813ed15-0592-4893-8ba4-ff43944e349b
DTSTAMP:20260421T111907Z
DTSTART;VALUE=DATE:20260527
SUMMARY:Eid al-Adha (estimated) (Jordan)
END:VEVENT
END:VCALENDAR