BEGIN:VCALENDAR
VERSION:2.0
PRODID:-//time.you/holidays//NONSGML v1.0//EN
BEGIN:VEVENT
UID:05f67915-53b5-4cf1-a995-43b768a01eb8
DTSTAMP:20260422T114337Z
DTSTART;VALUE=DATE:20260320
SUMMARY:Eid al-Fitr (estimated) (Jordan)
END:VEVENT
END:VCALENDAR