BEGIN:VCALENDAR
VERSION:2.0
PRODID:-//time.you/holidays//NONSGML v1.0//EN
BEGIN:VEVENT
UID:6f06c749-ad52-422b-9cab-935e8f286187
DTSTAMP:20260420T062456Z
DTSTART;VALUE=DATE:20260321
SUMMARY:Eid al-Fitr Holiday (estimated) (Jordan)
END:VEVENT
END:VCALENDAR