BEGIN:VCALENDAR
VERSION:2.0
PRODID:-//time.you/holidays//NONSGML v1.0//EN
BEGIN:VEVENT
UID:a8aa793b-14a7-40ce-af79-d5cc7c292ae6
DTSTAMP:20260424T170943Z
DTSTART;VALUE=DATE:20260706
SUMMARY:Capital Day (Kazakhstan)
END:VEVENT
END:VCALENDAR