BEGIN:VCALENDAR
VERSION:2.0
PRODID:-//time.you/holidays//NONSGML v1.0//EN
BEGIN:VEVENT
UID:63b5711f-8f14-445b-8833-f0b9bac803f6
DTSTAMP:20260425T123412Z
DTSTART;VALUE=DATE:20220307
SUMMARY:Day off (substituted from 03/05/2022) (Kazakhstan)
END:VEVENT
END:VCALENDAR