BEGIN:VCALENDAR
VERSION:2.0
PRODID:-//time.you/holidays//NONSGML v1.0//EN
BEGIN:VEVENT
UID:d5f3ee3a-51f2-4bbe-b2b9-3f6d4590ef47
DTSTAMP:20260424T034257Z
DTSTART;VALUE=DATE:20221024
SUMMARY:Day off (substituted from 10/22/2022) (Kazakhstan)
END:VEVENT
END:VCALENDAR