BEGIN:VCALENDAR
VERSION:2.0
PRODID:-//time.you/holidays//NONSGML v1.0//EN
BEGIN:VEVENT
UID:c79c15f8-10f7-45c8-82ff-24b253066c8d
DTSTAMP:20260422T130648Z
DTSTART;VALUE=DATE:20260527
SUMMARY:Eid al-Adha (estimated) (Kazakhstan)
END:VEVENT
END:VCALENDAR