BEGIN:VCALENDAR
VERSION:2.0
PRODID:-//time.you/holidays//NONSGML v1.0//EN
BEGIN:VEVENT
UID:0266412d-7e57-452c-bbfc-a7a969801335
DTSTAMP:20260424T021348Z
DTSTART;VALUE=DATE:20250606
SUMMARY:Eid al-Adha (Kazakhstan)
END:VEVENT
END:VCALENDAR