BEGIN:VCALENDAR
VERSION:2.0
PRODID:-//time.you/holidays//NONSGML v1.0//EN
BEGIN:VEVENT
UID:74b6d8da-222d-4950-942b-0674cfefd2ed
DTSTAMP:20260425T042735Z
DTSTART;VALUE=DATE:20281218
SUMMARY:Independence Day (observed) (Kazakhstan)
END:VEVENT
END:VCALENDAR