BEGIN:VCALENDAR
VERSION:2.0
PRODID:-//time.you/holidays//NONSGML v1.0//EN
BEGIN:VEVENT
UID:b420bdec-d8e7-4cd7-a339-7c744a488dac
DTSTAMP:20260422T033753Z
DTSTART;VALUE=DATE:20261216
SUMMARY:Independence Day (Kazakhstan)
END:VEVENT
END:VCALENDAR