BEGIN:VCALENDAR
VERSION:2.0
PRODID:-//time.you/holidays//NONSGML v1.0//EN
BEGIN:VEVENT
UID:8bb60c82-0b83-4d1c-b5da-3cb3462f8666
DTSTAMP:20260420T141225Z
DTSTART;VALUE=DATE:20260501
SUMMARY:Kazakhstan's People Solidarity Holiday (Kazakhstan)
END:VEVENT
END:VCALENDAR