BEGIN:VCALENDAR
VERSION:2.0
PRODID:-//time.you/holidays//NONSGML v1.0//EN
BEGIN:VEVENT
UID:6c341cf3-948f-40ba-a057-d7ad3e393564
DTSTAMP:20260423T145147Z
DTSTART;VALUE=DATE:20270104
SUMMARY:New Year's Day (observed) (Kazakhstan)
END:VEVENT
END:VCALENDAR