BEGIN:VCALENDAR
VERSION:2.0
PRODID:-//time.you/holidays//NONSGML v1.0//EN
BEGIN:VEVENT
UID:23e94494-816e-4f45-8b9e-821b54108693
DTSTAMP:20260420T154810Z
DTSTART;VALUE=DATE:20260101
SUMMARY:New Year's Day (Kazakhstan)
END:VEVENT
END:VCALENDAR