BEGIN:VCALENDAR
VERSION:2.0
PRODID:-//time.you/holidays//NONSGML v1.0//EN
BEGIN:VEVENT
UID:7979cebd-abf1-41df-9bca-6e08d3cc7814
DTSTAMP:20260421T235745Z
DTSTART;VALUE=DATE:20260324
SUMMARY:Nowruz Holiday (observed) (Kazakhstan)
END:VEVENT
END:VCALENDAR