BEGIN:VCALENDAR
VERSION:2.0
PRODID:-//time.you/holidays//NONSGML v1.0//EN
BEGIN:VEVENT
UID:22f8a561-b7ab-4453-8191-efd40f0d952c
DTSTAMP:20260424T081948Z
DTSTART;VALUE=DATE:20260511
SUMMARY:Victory Day (observed) (Kazakhstan)
END:VEVENT
END:VCALENDAR