BEGIN:VCALENDAR
VERSION:2.0
PRODID:-//time.you/holidays//NONSGML v1.0//EN
BEGIN:VEVENT
UID:5f8553f8-c9c1-42a5-a75f-90bb2c30972d
DTSTAMP:20260421T122825Z
DTSTART;VALUE=DATE:20260509
SUMMARY:Victory Day (Kazakhstan)
END:VEVENT
END:VCALENDAR