BEGIN:VCALENDAR
VERSION:2.0
PRODID:-//time.you/holidays//NONSGML v1.0//EN
BEGIN:VEVENT
UID:effd7505-2fc3-4061-b803-8105fc5aea22
DTSTAMP:20260420T184358Z
DTSTART;VALUE=DATE:20261226
SUMMARY:Boxing Day (Kenya)
END:VEVENT
END:VCALENDAR