BEGIN:VCALENDAR
VERSION:2.0
PRODID:-//time.you/holidays//NONSGML v1.0//EN
BEGIN:VEVENT
UID:cc16074e-f98a-4239-a29d-6f8c4fbcf63f
DTSTAMP:20260422T064250Z
DTSTART;VALUE=DATE:20260320
SUMMARY:Eid-al-Fitr (estimated) (Kenya)
END:VEVENT
END:VCALENDAR