BEGIN:VCALENDAR
VERSION:2.0
PRODID:-//time.you/holidays//NONSGML v1.0//EN
BEGIN:VEVENT
UID:cf23c8ab-be93-4698-a03a-52e8fb84b64e
DTSTAMP:20260420T190407Z
DTSTART;VALUE=DATE:20241101
SUMMARY:Inauguration Day (Kenya)
END:VEVENT
END:VCALENDAR