BEGIN:VCALENDAR
VERSION:2.0
PRODID:-//time.you/holidays//NONSGML v1.0//EN
BEGIN:VEVENT
UID:87b2af89-a63f-4ace-ab64-b66fedaa75d4
DTSTAMP:20260422T130226Z
DTSTART;VALUE=DATE:20271213
SUMMARY:Jamhuri Day (observed) (Kenya)
END:VEVENT
END:VCALENDAR