BEGIN:VCALENDAR
VERSION:2.0
PRODID:-//time.you/holidays//NONSGML v1.0//EN
BEGIN:VEVENT
UID:f22cb2ef-35d5-449d-a2df-e8859027d654
DTSTAMP:20260421T125621Z
DTSTART;VALUE=DATE:20330502
SUMMARY:Labor Day (observed) (Kenya)
END:VEVENT
END:VCALENDAR