BEGIN:VCALENDAR
VERSION:2.0
PRODID:-//time.you/holidays//NONSGML v1.0//EN
BEGIN:VEVENT
UID:6f155901-ce90-4c3f-ac6b-4614e1119d69
DTSTAMP:20260420T204539Z
DTSTART;VALUE=DATE:20260501
SUMMARY:Labor Day (Kenya)
END:VEVENT
END:VCALENDAR