BEGIN:VCALENDAR
VERSION:2.0
PRODID:-//time.you/holidays//NONSGML v1.0//EN
BEGIN:VEVENT
UID:cc3af701-990a-4f96-b0ea-e7584ea7811d
DTSTAMP:20260420T100443Z
DTSTART;VALUE=DATE:20310602
SUMMARY:Madaraka Day (observed) (Kenya)
END:VEVENT
END:VCALENDAR