BEGIN:VCALENDAR
VERSION:2.0
PRODID:-//time.you/holidays//NONSGML v1.0//EN
BEGIN:VEVENT
UID:18bca1de-db67-4df9-8140-3617c753136c
DTSTAMP:20260421T183624Z
DTSTART;VALUE=DATE:20301021
SUMMARY:Mashujaa Day (observed) (Kenya)
END:VEVENT
END:VCALENDAR