BEGIN:VCALENDAR
VERSION:2.0
PRODID:-//time.you/holidays//NONSGML v1.0//EN
BEGIN:VEVENT
UID:2cd24b7c-cda8-4f0b-92e6-69b9eb6dc509
DTSTAMP:20260420T095421Z
DTSTART;VALUE=DATE:20261020
SUMMARY:Mashujaa Day (Kenya)
END:VEVENT
END:VCALENDAR