BEGIN:VCALENDAR
VERSION:2.0
PRODID:-//time.you/holidays//NONSGML v1.0//EN
BEGIN:VEVENT
UID:43ad5008-e751-4d30-8c27-b8c80f2cb36d
DTSTAMP:20260420T084656Z
DTSTART;VALUE=DATE:20271011
SUMMARY:Mazingira Day (observed) (Kenya)
END:VEVENT
END:VCALENDAR