BEGIN:VCALENDAR
VERSION:2.0
PRODID:-//time.you/holidays//NONSGML v1.0//EN
BEGIN:VEVENT
UID:3f43d480-8b3c-453e-95e1-93757f729269
DTSTAMP:20260421T230321Z
DTSTART;VALUE=DATE:20240510
SUMMARY:National Tree Growing Day (Kenya)
END:VEVENT
END:VCALENDAR