BEGIN:VCALENDAR
VERSION:2.0
PRODID:-//time.you/holidays//NONSGML v1.0//EN
BEGIN:VEVENT
UID:05bd2845-efcc-4937-8404-524c0b07013e
DTSTAMP:20260420T033316Z
DTSTART;VALUE=DATE:20260101
SUMMARY:New Year's Day (Kenya)
END:VEVENT
END:VCALENDAR