BEGIN:VCALENDAR
VERSION:2.0
PRODID:-//time.you/holidays//NONSGML v1.0//EN
BEGIN:VEVENT
UID:207b0d6d-e893-41df-bf32-f96ec6cfc99b
DTSTAMP:20260424T164222Z
DTSTART;VALUE=DATE:20220429
SUMMARY:State Funeral for Former President Mwai Kibaki (Kenya)
END:VEVENT
END:VCALENDAR