BEGIN:VCALENDAR
VERSION:2.0
PRODID:-//time.you/holidays//NONSGML v1.0//EN
BEGIN:VEVENT
UID:92e8b810-3af2-42b9-b22e-9aa2504c287d
DTSTAMP:20260424T191836Z
DTSTART;VALUE=DATE:20211011
SUMMARY:Utamaduni Day (observed) (Kenya)
END:VEVENT
END:VCALENDAR