BEGIN:VCALENDAR
VERSION:2.0
PRODID:-//time.you/holidays//NONSGML v1.0//EN
BEGIN:VEVENT
UID:68a30156-52be-422c-b497-5dcc9a69111a
DTSTAMP:20260420T095331Z
DTSTART;VALUE=DATE:20261226
SUMMARY:Boxing Day (Kiribati)
END:VEVENT
END:VCALENDAR