BEGIN:VCALENDAR
VERSION:2.0
PRODID:-//time.you/holidays//NONSGML v1.0//EN
BEGIN:VEVENT
UID:dfe21d65-cad1-47db-9b04-4c0133afd439
DTSTAMP:20260424T020839Z
DTSTART;VALUE=DATE:20250421
SUMMARY:Easter Monday; National Health Day (observed) (Kiribati)
END:VEVENT
END:VCALENDAR