BEGIN:VCALENDAR
VERSION:2.0
PRODID:-//time.you/holidays//NONSGML v1.0//EN
BEGIN:VEVENT
UID:23d4f62b-1327-4bba-9267-1ef6560085b0
DTSTAMP:20260420T195243Z
DTSTART;VALUE=DATE:20260406
SUMMARY:Easter Monday (Kiribati)
END:VEVENT
END:VCALENDAR