BEGIN:VCALENDAR
VERSION:2.0
PRODID:-//time.you/holidays//NONSGML v1.0//EN
BEGIN:VEVENT
UID:49e6d64e-2f30-4598-a9c9-4836fa801e2d
DTSTAMP:20260424T093721Z
DTSTART;VALUE=DATE:20260403
SUMMARY:Good Friday (Kiribati)
END:VEVENT
END:VCALENDAR