BEGIN:VCALENDAR
VERSION:2.0
PRODID:-//time.you/holidays//NONSGML v1.0//EN
BEGIN:VEVENT
UID:411b9b5c-79d2-4651-a785-8d4c5f8db029
DTSTAMP:20260422T100537Z
DTSTART;VALUE=DATE:20281211
SUMMARY:Human Rights and Peace Day (observed) (Kiribati)
END:VEVENT
END:VCALENDAR