BEGIN:VCALENDAR
VERSION:2.0
PRODID:-//time.you/holidays//NONSGML v1.0//EN
BEGIN:VEVENT
UID:684973e9-d6bd-4b9e-97c0-c42ea3b5af00
DTSTAMP:20260424T021641Z
DTSTART;VALUE=DATE:20261209
SUMMARY:Human Rights and Peace Day (Kiribati)
END:VEVENT
END:VCALENDAR