BEGIN:VCALENDAR
VERSION:2.0
PRODID:-//time.you/holidays//NONSGML v1.0//EN
BEGIN:VEVENT
UID:8c01862d-1e17-4172-95ff-8592a7996aa6
DTSTAMP:20260420T012544Z
DTSTART;VALUE=DATE:20260308
SUMMARY:International Women's Day (Kiribati)
END:VEVENT
END:VCALENDAR