BEGIN:VCALENDAR
VERSION:2.0
PRODID:-//time.you/holidays//NONSGML v1.0//EN
BEGIN:VEVENT
UID:8757d049-82a0-4520-b210-06598d077768
DTSTAMP:20260422T061331Z
DTSTART;VALUE=DATE:20280717
SUMMARY:National Day (in honor of Unaine) (observed) (Kiribati)
END:VEVENT
END:VCALENDAR