BEGIN:VCALENDAR
VERSION:2.0
PRODID:-//time.you/holidays//NONSGML v1.0//EN
BEGIN:VEVENT
UID:681f025c-20c1-487a-958f-a73f4ef1f7a7
DTSTAMP:20260420T090340Z
DTSTART;VALUE=DATE:20260715
SUMMARY:National Day (in honor of Unimwane) (Kiribati)
END:VEVENT
END:VCALENDAR